BEGIN:VCALENDAR
VERSION:2.0
PRODID:-//TYPO3/NONSGML Calendarize//EN
BEGIN:VEVENT
UID:calendarize-digitales-ortsgruppentreffen-barssel-20260916
DTSTAMP:20260424T212652Z
DTSTART:20260916T181500Z
DTEND:20260916T190000Z
SUMMARY:Digitales Ortsgruppentreffen Barßel
DESCRIPTION:Wöchentliches Treffen der Barßeler Grünen in dem wir aktuel
 le Themen und bevorstehende Veranstaltungen besprechen. Schreibe uns gerne
  an und komme dazu. Wir freuen uns auf Dich.
X-ALT-DESC;FMTTYPE=text/html:<p>Wöchentliches Treffen der Barßeler Grün
 en in dem wir aktuelle Themen und bevorstehende Veranstaltungen besprechen
 .<br /> Schreibe uns gerne an und komme dazu. Wir freuen uns auf Dich.</p>
LOCATION:Digital - Zoom Meeting, ,
END:VEVENT
END:VCALENDAR
