BEGIN:VCALENDAR
VERSION:2.0
PRODID:-//TYPO3/NONSGML Calendarize//EN
BEGIN:VEVENT
UID:calendarize-mitmachen/gruenschnack-20261001
DTSTAMP:20260424T211245Z
DTSTART:20261001T180000Z
SUMMARY:GRÜNschnack - der GRÜNE Stammtisch
DESCRIPTION:
X-ALT-DESC;FMTTYPE=text/html:
LOCATION:Kulturbahnhof Cloppenburg, Bahnhofstraße 82, 49661 Cloppenburg
END:VEVENT
END:VCALENDAR
